BEGIN:VCALENDAR
VERSION:2.0
PRODID:-//Yii2 Events//EN
BEGIN:VEVENT
UID:69e80e5040064@zvok-srca.si
DTSTAMP:20260421T235456Z
DTSTART:20251107T200000
DTEND:20251107T213000
SUMMARY:Zvočna kopel s Tjašo in Boštjanom
DESCRIPTION:Vabljeni na zvočno kopel s Tjašo in Boštjanom v Koper. Potopite se v zdravilne zvoke kristalnih instrumentov in gongov.
LOCATION:Kinetic Studio - Shodana joga \, Ferrarska 10\, Slovenia
URL:http://zvok-srca.si/hr/event/zvocna-kopel-s-tjaso-in-bostjanom
END:VEVENT
END:VCALENDAR
