BEGIN:VCALENDAR
VERSION:2.0
PRODID:-//Yii2 Events//EN
BEGIN:VEVENT
UID:69e80d86753df@zvok-srca.si
DTSTAMP:20260421T235134Z
DTSTART:20250410T180000
DTEND:20250410T193000
SUMMARY:Ven iz okvirov - Srčna gong kopel Tolmin
DESCRIPTION:Raztopite notranje ovire s Srčno Gong Kopeljo 'Ven iz okvirov'. Sprostitev\, regeneracija in zvočno potovanje za osvoboditev omejitev in preboj v novo svobodo.
LOCATION:Tornijeva dvorana\, KS Tolmin\, Rutarjeva ulica 5\, Slovenia
URL:http://zvok-srca.si/hr/event/ven-iz-okvirov-srcna-gong-kopel-tolmin
END:VEVENT
END:VCALENDAR
