BEGIN:VCALENDAR
VERSION:2.0
PRODID:-//Yii2 Events//EN
BEGIN:VEVENT
UID:69e80da9b8a7e@zvok-srca.si
DTSTAMP:20260421T235209Z
DTSTART:20250418T200000
DTEND:20250418T213000
SUMMARY:Ven iz okvirov - Srčna gong kopel Ljubljana
DESCRIPTION:Doživi Srčno Gong Kopel "Ven iz okvirov" – zvočno popotovanje za sprostitev\, transformacijo in osvoboditev omejitev. Prijavi se zdaj!
LOCATION:Višja Vibracija\,  Ljubljana\, Ulica Andreja Bitenca 68\, Slovenia
URL:http://zvok-srca.si/hr/event/ven-iz-okvirov-srcna-gong-kopel-ljubljana
END:VEVENT
END:VCALENDAR
