BEGIN:VCALENDAR
VERSION:2.0
PRODID:-//Yii2 Events//EN
BEGIN:VEVENT
UID:69e80d2f50b92@zvok-srca.si
DTSTAMP:20260421T235007Z
DTSTART:20250214T180000
DTEND:20250214T193000
SUMMARY:Srčna Gong Kopel - Prisotnost TOLMIN
DESCRIPTION:Namero tega meseca smo postavili v Prisotnost. Biti prisoten pomeni biti tukaj in zdaj – popolnoma v trenutku\, v stiku s seboj in svojim srcem. Ko se umirimo in zavestno usmerimo svojo pozornost navznoter\, se odpre prostor za globoko notranjo povezanost\, jasnost in sprejemanje. Zvok gonga in vibracije drugih instrumentov te bodo podprli pri poglabljanju prisotnosti\, sprostitvi uma ter uravnovešanju telesa in duha. Dovoli si biti\, čutiti in preprosto sprejemati ta trenutek\, takšen kot je. Naj...
LOCATION:Tornijeva dvorana KS\, Rutarjeva ulica 5\, Slovenia
URL:http://zvok-srca.si/hr/event/srcna-gong-kopel-prisotnost-tolmin
END:VEVENT
END:VCALENDAR
