BEGIN:VCALENDAR
VERSION:2.0
PRODID:-//Yii2 Events//EN
BEGIN:VEVENT
UID:69e80cea25998@zvok-srca.si
DTSTAMP:20260421T234858Z
DTSTART:20250220T190000
DTEND:20250220T203000
SUMMARY:Srčna Gong Kopel - Prisotnost KROMBERK
DESCRIPTION:Namero tega meseca smo postavili v Prisotnost. Biti prisoten pomeni biti tukaj in zdaj – popolnoma v trenutku\, v stiku s seboj in svojim srcem. Ko se umirimo in zavestno usmerimo svojo pozornost navznoter\, se odpre prostor za globoko notranjo povezanost\, jasnost in sprejemanje. Zvok gonga in vibracije drugih instrumentov te bodo podprli pri poglabljanju prisotnosti\, sprostitvi uma ter uravnovešanju telesa in duha. Dovoli si biti\, čutiti in preprosto sprejemati ta trenutek\, takšen kot je. Naj...
LOCATION:KS KROMBERK\, Ulica Vinka Vodopivca 90\, Kromberk\, Slovenia
URL:http://zvok-srca.si/hr/event/srcna-gong-kopel-prisotnost-kromberk
END:VEVENT
END:VCALENDAR
