BEGIN:VCALENDAR
VERSION:2.0
PRODID:-//Yii2 Events//EN
BEGIN:VEVENT
UID:69e7f4ed04a48@zvok-srca.si
DTSTAMP:20260421T220637Z
DTSTART:20260521T200000
DTEND:20260521T213000
SUMMARY:Srčna Gong Kopel - MAJ / Kromberk 21.5.
DESCRIPTION:Srčna gong kopel - MAJ\, Kromberk 21.5. ob 20h.\nGloboka sprostitev. Umiritev uma. Prizemljitev telesa.\nProstor\, kjer lahko samo si.\nVeč o dogodku in prijava na gumbu spodaj.\nDobrodošli
LOCATION:KS KROMBERK\, Ulica Vinka Vodopivca 90\, Kromberk\, Nova Gorica\, Slovenia
URL:http://zvok-srca.si/hr/event/srcna-gong-kopel-maj-kromberk-215
END:VEVENT
END:VCALENDAR
