BEGIN:VCALENDAR
VERSION:2.0
PRODID:-//Yii2 Events//EN
BEGIN:VEVENT
UID:69e7f5931c428@zvok-srca.si
DTSTAMP:20260421T220923Z
DTSTART:20260513T200000
DTEND:20260513T213000
SUMMARY:Srčna Gong Kopel - MAJ I Ajdovščina 13.5.
DESCRIPTION:Zvočna kopel\, ki podpre umiritev\, prizemljitev in stik s sabo.\nV prostorih MC Ajdovščina 13.maj.\nVeč o dogodku in prijava na gumbu spodaj.\nDobrodošli
LOCATION:Hiša mladih Ajdovščina\,  Cesta IV. prekomorske 61a\, Ajdovščina\, Slovenia
URL:http://zvok-srca.si/hr/event/srcna-gong-kopel-maj-i-ajdovscina-135
END:VEVENT
END:VCALENDAR
