BEGIN:VCALENDAR
VERSION:2.0
PRODID:-//Yii2 Events//EN
BEGIN:VEVENT
UID:69e7f57183646@zvok-srca.si
DTSTAMP:20260421T220849Z
DTSTART:20260313T190000
DTEND:20260313T203000
SUMMARY:Srčna gong kopel - DOVOLIM SI / Tolmin
DESCRIPTION:
LOCATION:Tornijeva dvorana\, Rutarjeva 5\, Tolmin\, slo
URL:http://zvok-srca.si/hr/event/srcna-gong-kopel-dovolim-si-tolmin
END:VEVENT
END:VCALENDAR
