BEGIN:VCALENDAR
VERSION:2.0
PRODID:-//Yii2 Events//EN
BEGIN:VEVENT
UID:69e7f53f5b6a0@zvok-srca.si
DTSTAMP:20260421T220759Z
DTSTART:20251126T190000
DTEND:20251126T203000
SUMMARY:Srčna Gong Kopel - AJDOVŠČINA 26.11. - MIR V SRCU
DESCRIPTION:Pridružite se Zvočni Kopeli v Ajdovščini 26. novembra in poiščite mir v srcu skozi vibracije in zvok.
LOCATION:Hiša mladih\,  Cesta IV. prekomorske 61a\, Slovenia
URL:http://zvok-srca.si/hr/event/srcna-gong-kopel-ajdovscina-2611-mir-v-srcu
END:VEVENT
END:VCALENDAR
